BEGIN:VCALENDAR
VERSION:2.0
PRODID:-//Rock Harbor Covenant Church - ECPv6.0.13//NONSGML v1.0//EN
CALSCALE:GREGORIAN
METHOD:PUBLISH
X-ORIGINAL-URL:https://rockharboronline.com
X-WR-CALDESC:Events for Rock Harbor Covenant Church
REFRESH-INTERVAL;VALUE=DURATION:PT1H
X-Robots-Tag:noindex
X-PUBLISHED-TTL:PT1H
BEGIN:VTIMEZONE
TZID:America/Los_Angeles
BEGIN:DAYLIGHT
TZOFFSETFROM:-0800
TZOFFSETTO:-0700
TZNAME:PDT
DTSTART:20250309T100000
END:DAYLIGHT
BEGIN:STANDARD
TZOFFSETFROM:-0700
TZOFFSETTO:-0800
TZNAME:PST
DTSTART:20251102T090000
END:STANDARD
END:VTIMEZONE
BEGIN:VEVENT
DTSTART;TZID=America/Los_Angeles:20251114T080000
DTEND;TZID=America/Los_Angeles:20251114T170000
DTSTAMP:20260421T143612
CREATED:20251114T163438Z
LAST-MODIFIED:20251114T163438Z
UID:6637-1763107200-1763139600@rockharboronline.com
SUMMARY:Join us for our Thanksgiving Potluck
DESCRIPTION:Sunday November 23 at 5:00 \nSign up to bring Soup\, Salad or Dessert
URL:https://rockharboronline.com/event/join-us-for-our-thanksgiving-potluck/
ATTACH;FMTTYPE=image/jpeg:https://rockharboronline.com/wp-content/uploads/2025/11/Thanksgiving-web.jpg
END:VEVENT
BEGIN:VEVENT
DTSTART;TZID=America/Los_Angeles:20251115T093000
DTEND;TZID=America/Los_Angeles:20251115T093000
DTSTAMP:20260421T143612
CREATED:20251023T213613Z
LAST-MODIFIED:20251023T214219Z
UID:6610-1763199000-1763199000@rockharboronline.com
SUMMARY:Women's Ministry - Workshop Fellowship
DESCRIPTION:Join us on November 15 for Brunch and time to create something fun! \nUse the QR code to sign up!
URL:https://rockharboronline.com/event/womens-ministry-workshop-fellowship/
ATTACH;FMTTYPE=image/jpeg:https://rockharboronline.com/wp-content/uploads/2025/10/Untitled-8.jpg
END:VEVENT
END:VCALENDAR