BEGIN:VCALENDAR
VERSION:2.0
PRODID:-//Rock Harbor Covenant Church - ECPv6.0.13//NONSGML v1.0//EN
CALSCALE:GREGORIAN
METHOD:PUBLISH
X-WR-CALNAME:Rock Harbor Covenant Church
X-ORIGINAL-URL:https://rockharboronline.com
X-WR-CALDESC:Events for Rock Harbor Covenant Church
REFRESH-INTERVAL;VALUE=DURATION:PT1H
X-Robots-Tag:noindex
X-PUBLISHED-TTL:PT1H
BEGIN:VTIMEZONE
TZID:America/Los_Angeles
BEGIN:DAYLIGHT
TZOFFSETFROM:-0800
TZOFFSETTO:-0700
TZNAME:PDT
DTSTART:20250309T100000
END:DAYLIGHT
BEGIN:STANDARD
TZOFFSETFROM:-0700
TZOFFSETTO:-0800
TZNAME:PST
DTSTART:20251102T090000
END:STANDARD
END:VTIMEZONE
BEGIN:VEVENT
DTSTART;VALUE=DATE:20251003
DTEND;VALUE=DATE:20251004
DTSTAMP:20260421T161047
CREATED:20250515T211849Z
LAST-MODIFIED:20250515T211849Z
UID:6599-1759449600-1759535999@rockharboronline.com
SUMMARY:Rock Harbor Women's Retreat
DESCRIPTION:It’s time to clear your calendar for October 3-5\, 2025 for the Rock Harbor Women’s Retreat \nUse the QR code to sign up for a great weekend in the Santa Cruz Mountains.
URL:https://rockharboronline.com/event/rock-harbor-womens-retreat/
ATTACH;FMTTYPE=image/jpeg:https://rockharboronline.com/wp-content/uploads/2025/05/wm-retreat-web.jpg
END:VEVENT
END:VCALENDAR