BEGIN:VCALENDAR
VERSION:2.0
PRODID:-//Rock Harbor Covenant Church - ECPv6.0.13//NONSGML v1.0//EN
CALSCALE:GREGORIAN
METHOD:PUBLISH
X-WR-CALNAME:Rock Harbor Covenant Church
X-ORIGINAL-URL:https://rockharboronline.com
X-WR-CALDESC:Events for Rock Harbor Covenant Church
REFRESH-INTERVAL;VALUE=DURATION:PT1H
X-Robots-Tag:noindex
X-PUBLISHED-TTL:PT1H
BEGIN:VTIMEZONE
TZID:America/Los_Angeles
BEGIN:DAYLIGHT
TZOFFSETFROM:-0800
TZOFFSETTO:-0700
TZNAME:PDT
DTSTART:20250309T100000
END:DAYLIGHT
BEGIN:STANDARD
TZOFFSETFROM:-0700
TZOFFSETTO:-0800
TZNAME:PST
DTSTART:20251102T090000
END:STANDARD
END:VTIMEZONE
BEGIN:VEVENT
DTSTART;TZID=America/Los_Angeles:20250628T090000
DTEND;TZID=America/Los_Angeles:20250704T200000
DTSTAMP:20260421T215806
CREATED:20250515T211022Z
LAST-MODIFIED:20250515T211022Z
UID:6593-1751101200-1751659200@rockharboronline.com
SUMMARY:Fireworks Booth - New Location
DESCRIPTION:We’ve moved\, but you can find us just across the street.  We’re in the Safeway parking lot on the corner of Sunset and Park. \nWe’re looking forward to seeing you between June 28 and July 4
URL:https://rockharboronline.com/event/fireworks-booth-new-location/
ATTACH;FMTTYPE=image/jpeg:https://rockharboronline.com/wp-content/uploads/2025/05/fireworks-web.jpg
END:VEVENT
BEGIN:VEVENT
DTSTART;VALUE=DATE:20250717
DTEND;VALUE=DATE:20250721
DTSTAMP:20260421T215806
CREATED:20250515T211251Z
LAST-MODIFIED:20250515T211251Z
UID:6596-1752710400-1753055999@rockharboronline.com
SUMMARY:Rock Harbor Great Escape
DESCRIPTION:Our annual all church camping trip will be July 17 – 20\, 2025 \nYou can pick up a registration form on Sunday in the lobby or email bobs@rockharboronline.com
URL:https://rockharboronline.com/event/rock-harbor-great-escape/
ATTACH;FMTTYPE=image/jpeg:https://rockharboronline.com/wp-content/uploads/2025/05/ge-web.jpg
END:VEVENT
END:VCALENDAR