BEGIN:VCALENDAR
VERSION:2.0
PRODID:-//Rock Harbor Covenant Church - ECPv6.0.13//NONSGML v1.0//EN
CALSCALE:GREGORIAN
METHOD:PUBLISH
X-ORIGINAL-URL:https://rockharboronline.com
X-WR-CALDESC:Events for Rock Harbor Covenant Church
REFRESH-INTERVAL;VALUE=DURATION:PT1H
X-Robots-Tag:noindex
X-PUBLISHED-TTL:PT1H
BEGIN:VTIMEZONE
TZID:America/Los_Angeles
BEGIN:DAYLIGHT
TZOFFSETFROM:-0800
TZOFFSETTO:-0700
TZNAME:PDT
DTSTART:20250309T100000
END:DAYLIGHT
BEGIN:STANDARD
TZOFFSETFROM:-0700
TZOFFSETTO:-0800
TZNAME:PST
DTSTART:20251102T090000
END:STANDARD
END:VTIMEZONE
BEGIN:VEVENT
DTSTART;VALUE=DATE:20250502
DTEND;VALUE=DATE:20250505
DTSTAMP:20260422T010723
CREATED:20250117T195540Z
LAST-MODIFIED:20250117T200322Z
UID:6558-1746144000-1746403199@rockharboronline.com
SUMMARY:Men's Retreat
DESCRIPTION:Registration OPENS on February 1\, 2025! \nRegistration Link: \nhttps://forms.gle/xVWieYGsXwaGTno27
URL:https://rockharboronline.com/event/mens-retreat/
LOCATION:Mission Springs\, 1050 Lockhart Gulch Rd\, Scotts Valley\, CA\, 95066\, United States
ATTACH;FMTTYPE=image/jpeg:https://rockharboronline.com/wp-content/uploads/2025/01/Untitled-4.jpg
END:VEVENT
END:VCALENDAR