BEGIN:VCALENDAR
VERSION:2.0
PRODID:-//Rock Harbor Covenant Church - ECPv6.0.13//NONSGML v1.0//EN
CALSCALE:GREGORIAN
METHOD:PUBLISH
X-WR-CALNAME:Rock Harbor Covenant Church
X-ORIGINAL-URL:https://rockharboronline.com
X-WR-CALDESC:Events for Rock Harbor Covenant Church
REFRESH-INTERVAL;VALUE=DURATION:PT1H
X-Robots-Tag:noindex
X-PUBLISHED-TTL:PT1H
BEGIN:VTIMEZONE
TZID:America/Los_Angeles
BEGIN:DAYLIGHT
TZOFFSETFROM:-0800
TZOFFSETTO:-0700
TZNAME:PDT
DTSTART:20250309T100000
END:DAYLIGHT
BEGIN:STANDARD
TZOFFSETFROM:-0700
TZOFFSETTO:-0800
TZNAME:PST
DTSTART:20251102T090000
END:STANDARD
END:VTIMEZONE
BEGIN:VEVENT
DTSTART;TZID=America/Los_Angeles:20250222T100000
DTEND;TZID=America/Los_Angeles:20250222T133000
DTSTAMP:20260422T162644
CREATED:20250130T204745Z
LAST-MODIFIED:20250130T204745Z
UID:6570-1740218400-1740231000@rockharboronline.com
SUMMARY:Women's Nature Hike
DESCRIPTION:Join the ladies of Rock Harbor on a hike and picnic at Natomas Lake
URL:https://rockharboronline.com/event/womens-nature-hike/
ATTACH;FMTTYPE=image/png:https://rockharboronline.com/wp-content/uploads/2025/01/Screenshot-2025-01-30-at-12.38.38-PM.png
END:VEVENT
BEGIN:VEVENT
DTSTART;TZID=America/Los_Angeles:20250222T130000
DTEND;TZID=America/Los_Angeles:20250222T150000
DTSTAMP:20260422T162644
CREATED:20250213T194925Z
LAST-MODIFIED:20250213T194925Z
UID:6574-1740229200-1740236400@rockharboronline.com
SUMMARY:Come shower blessings on Cherie!
DESCRIPTION:
URL:https://rockharboronline.com/event/come-shower-blessings-on-cherie/
ATTACH;FMTTYPE=image/jpeg:https://rockharboronline.com/wp-content/uploads/2025/02/Nakagaki-shower-web.jpg
END:VEVENT
END:VCALENDAR