BEGIN:VCALENDAR
VERSION:2.0
PRODID:-//Rock Harbor Covenant Church - ECPv6.0.13//NONSGML v1.0//EN
CALSCALE:GREGORIAN
METHOD:PUBLISH
X-WR-CALNAME:Rock Harbor Covenant Church
X-ORIGINAL-URL:https://rockharboronline.com
X-WR-CALDESC:Events for Rock Harbor Covenant Church
REFRESH-INTERVAL;VALUE=DURATION:PT1H
X-Robots-Tag:noindex
X-PUBLISHED-TTL:PT1H
BEGIN:VTIMEZONE
TZID:America/Los_Angeles
BEGIN:DAYLIGHT
TZOFFSETFROM:-0800
TZOFFSETTO:-0700
TZNAME:PDT
DTSTART:20230312T100000
END:DAYLIGHT
BEGIN:STANDARD
TZOFFSETFROM:-0700
TZOFFSETTO:-0800
TZNAME:PST
DTSTART:20231105T090000
END:STANDARD
BEGIN:DAYLIGHT
TZOFFSETFROM:-0800
TZOFFSETTO:-0700
TZNAME:PDT
DTSTART:20240310T100000
END:DAYLIGHT
BEGIN:STANDARD
TZOFFSETFROM:-0700
TZOFFSETTO:-0800
TZNAME:PST
DTSTART:20241103T090000
END:STANDARD
BEGIN:DAYLIGHT
TZOFFSETFROM:-0800
TZOFFSETTO:-0700
TZNAME:PDT
DTSTART:20250309T100000
END:DAYLIGHT
BEGIN:STANDARD
TZOFFSETFROM:-0700
TZOFFSETTO:-0800
TZNAME:PST
DTSTART:20251102T090000
END:STANDARD
BEGIN:DAYLIGHT
TZOFFSETFROM:-0800
TZOFFSETTO:-0700
TZNAME:PDT
DTSTART:20260308T100000
END:DAYLIGHT
BEGIN:STANDARD
TZOFFSETFROM:-0700
TZOFFSETTO:-0800
TZNAME:PST
DTSTART:20261101T090000
END:STANDARD
END:VTIMEZONE
BEGIN:VEVENT
DTSTART;TZID=America/Los_Angeles:20260228T083000
DTEND;TZID=America/Los_Angeles:20260228T100000
DTSTAMP:20260420T015956
CREATED:20260205T080009Z
LAST-MODIFIED:20260205T194603Z
UID:6652-1772267400-1772272800@rockharboronline.com
SUMMARY:Men's Breakfast - February 28 - 8:30am - 10:00am
DESCRIPTION:Join us for our quarterly BREAKFAST at the Loomis Pizza Factory.
URL:https://rockharboronline.com/event/mens-breakfast-february-28-830am-1000am/
CATEGORIES:Men's Ministry
ATTACH;FMTTYPE=image/jpeg:https://rockharboronline.com/wp-content/uploads/2026/02/260228-MM-Breakfast-website-.jpg
END:VEVENT
BEGIN:VEVENT
DTSTART;TZID=America/Los_Angeles:20231021T180000
DTEND;TZID=America/Los_Angeles:20231021T210000
DTSTAMP:20260420T015956
CREATED:20230928T173557Z
LAST-MODIFIED:20231105T190350Z
UID:6376-1697911200-1697922000@rockharboronline.com
SUMMARY:Men's Game Night
DESCRIPTION:
URL:https://rockharboronline.com/event/mens-game-night-2/
LOCATION:CrossFit Loomis\, 5930 Key Ct. Suite B\, Loomis\, CA\, 95650\, United States
CATEGORIES:Men's Ministry
ATTACH;FMTTYPE=image/jpeg:https://rockharboronline.com/wp-content/uploads/2023/09/ID-Setting-for-Website-Event.jpg
ORGANIZER;CN="Cesar%20Lopez":MAILTO:clopez@nlaplan.com
END:VEVENT
BEGIN:VEVENT
DTSTART;VALUE=DATE:20231013
DTEND;VALUE=DATE:20231015
DTSTAMP:20260420T015956
CREATED:20230811T184809Z
LAST-MODIFIED:20231105T190407Z
UID:6370-1697155200-1697327999@rockharboronline.com
SUMMARY:Marriage Retreat - Everline Resort & Spa
DESCRIPTION:
URL:https://rockharboronline.com/event/marriage-retreat-everline-resort-spa/
CATEGORIES:Men's Ministry,Women's Ministry
ATTACH;FMTTYPE=image/jpeg:https://rockharboronline.com/wp-content/uploads/2023/08/2023-Marriage-Retreat-Slide-e1691779330640.jpg
END:VEVENT
BEGIN:VEVENT
DTSTART;TZID=America/Los_Angeles:20230513T170000
DTEND;TZID=America/Los_Angeles:20230513T210000
DTSTAMP:20260420T015956
CREATED:20230510T235923Z
LAST-MODIFIED:20230510T235923Z
UID:6316-1683997200-1684011600@rockharboronline.com
SUMMARY:Men's Game Night
DESCRIPTION:
URL:https://rockharboronline.com/event/mens-game-night/
LOCATION:CrossFit Loomis\, 5930 Key Ct. Suite B\, Loomis\, CA\, 95650\, United States
CATEGORIES:Men's Ministry
END:VEVENT
END:VCALENDAR