BEGIN:VCALENDAR
VERSION:2.0
PRODID:-//Rock Harbor Covenant Church - ECPv6.0.13//NONSGML v1.0//EN
CALSCALE:GREGORIAN
METHOD:PUBLISH
X-ORIGINAL-URL:https://rockharboronline.com
X-WR-CALDESC:Events for Rock Harbor Covenant Church
REFRESH-INTERVAL;VALUE=DURATION:PT1H
X-Robots-Tag:noindex
X-PUBLISHED-TTL:PT1H
BEGIN:VTIMEZONE
TZID:America/Los_Angeles
BEGIN:DAYLIGHT
TZOFFSETFROM:-0800
TZOFFSETTO:-0700
TZNAME:PDT
DTSTART:20230312T100000
END:DAYLIGHT
BEGIN:STANDARD
TZOFFSETFROM:-0700
TZOFFSETTO:-0800
TZNAME:PST
DTSTART:20231105T090000
END:STANDARD
END:VTIMEZONE
BEGIN:VEVENT
DTSTART;VALUE=DATE:20230720
DTEND;VALUE=DATE:20230724
DTSTAMP:20260422T031717
CREATED:20230428T201143Z
LAST-MODIFIED:20230512T163323Z
UID:6303-1689811200-1690156799@rockharboronline.com
SUMMARY:Great Escape 2023
DESCRIPTION:
URL:https://rockharboronline.com/event/great-escape-2023/
LOCATION:Scotts Flat Lake Campground\, 23333 Scotts Flat Lake\, Nevada City\, CA\, 95959\, United States
CATEGORIES:Family Events
ATTACH;FMTTYPE=image/jpeg:https://rockharboronline.com/wp-content/uploads/2023/04/GE-2023-Web-Pic.jpg
END:VEVENT
BEGIN:VEVENT
DTSTART;TZID=America/Los_Angeles:20230521T100000
DTEND;TZID=America/Los_Angeles:20230521T120000
DTSTAMP:20260422T031717
CREATED:20230511T001532Z
LAST-MODIFIED:20230512T164107Z
UID:6322-1684663200-1684670400@rockharboronline.com
SUMMARY:2023 Global 6K for Water
DESCRIPTION:
URL:https://rockharboronline.com/event/2023-global-6k-for-water/
LOCATION:Gracepoint Church\, 3500 Sunset Blvd\, Rocklin\, CA\, 95677\, United States
CATEGORIES:Family Events
ATTACH;FMTTYPE=image/png:https://rockharboronline.com/wp-content/uploads/2023/05/6K-Walk-web-pic.png
END:VEVENT
END:VCALENDAR