BEGIN:VCALENDAR
VERSION:2.0
PRODID:-//Rock Harbor Covenant Church - ECPv6.0.13//NONSGML v1.0//EN
CALSCALE:GREGORIAN
METHOD:PUBLISH
X-ORIGINAL-URL:https://rockharboronline.com
X-WR-CALDESC:Events for Rock Harbor Covenant Church
REFRESH-INTERVAL;VALUE=DURATION:PT1H
X-Robots-Tag:noindex
X-PUBLISHED-TTL:PT1H
BEGIN:VTIMEZONE
TZID:America/Los_Angeles
BEGIN:DAYLIGHT
TZOFFSETFROM:-0800
TZOFFSETTO:-0700
TZNAME:PDT
DTSTART:20250309T100000
END:DAYLIGHT
BEGIN:STANDARD
TZOFFSETFROM:-0700
TZOFFSETTO:-0800
TZNAME:PST
DTSTART:20251102T090000
END:STANDARD
END:VTIMEZONE
BEGIN:VEVENT
DTSTART;TZID=America/Los_Angeles:20251214T100000
DTEND;TZID=America/Los_Angeles:20251214T230000
DTSTAMP:20260421T144420
CREATED:20251107T181054Z
LAST-MODIFIED:20251107T181054Z
UID:6629-1765706400-1765753200@rockharboronline.com
SUMMARY:Rock Harbor Kids Cove Christmas Play
DESCRIPTION:Invite your family and friends to the Kids Cove Christmas Play which will be during our morning service on December 14 at 10:00am
URL:https://rockharboronline.com/event/rock-harbor-kids-cove-christmas-play/
LOCATION:Gracepoint Church\, 3500 Sunset Blvd\, Rocklin\, CA\, 95677\, United States
ATTACH;FMTTYPE=image/jpeg:https://rockharboronline.com/wp-content/uploads/2025/11/kc-christmas-play-web.jpg
END:VEVENT
END:VCALENDAR