BEGIN:VCALENDAR
VERSION:2.0
PRODID:-//Rock Harbor Covenant Church - ECPv6.0.13//NONSGML v1.0//EN
CALSCALE:GREGORIAN
METHOD:PUBLISH
X-ORIGINAL-URL:https://rockharboronline.com
X-WR-CALDESC:Events for Rock Harbor Covenant Church
REFRESH-INTERVAL;VALUE=DURATION:PT1H
X-Robots-Tag:noindex
X-PUBLISHED-TTL:PT1H
BEGIN:VTIMEZONE
TZID:America/Los_Angeles
BEGIN:DAYLIGHT
TZOFFSETFROM:-0800
TZOFFSETTO:-0700
TZNAME:PDT
DTSTART:20250309T100000
END:DAYLIGHT
BEGIN:STANDARD
TZOFFSETFROM:-0700
TZOFFSETTO:-0800
TZNAME:PST
DTSTART:20251102T090000
END:STANDARD
END:VTIMEZONE
BEGIN:VEVENT
DTSTART;TZID=America/Los_Angeles:20251207T170000
DTEND;TZID=America/Los_Angeles:20251207T220000
DTSTAMP:20260421T142807
CREATED:20251107T175256Z
LAST-MODIFIED:20251107T175256Z
UID:6619-1765126800-1765144800@rockharboronline.com
SUMMARY:Annual Christmas Party
DESCRIPTION:Register for your tickets online with the QR Code.
URL:https://rockharboronline.com/event/annual-christmas-party/
LOCATION:Blue Goose\, Taylor Road\, Loomis\, 95650
ATTACH;FMTTYPE=image/jpeg:https://rockharboronline.com/wp-content/uploads/2025/11/2025-Christmas-party-web.jpg
END:VEVENT
END:VCALENDAR