BEGIN:VCALENDAR
VERSION:2.0
PRODID:-//Rock Harbor Covenant Church - ECPv6.0.13//NONSGML v1.0//EN
CALSCALE:GREGORIAN
METHOD:PUBLISH
X-ORIGINAL-URL:https://rockharboronline.com
X-WR-CALDESC:Events for Rock Harbor Covenant Church
REFRESH-INTERVAL;VALUE=DURATION:PT1H
X-Robots-Tag:noindex
X-PUBLISHED-TTL:PT1H
BEGIN:VTIMEZONE
TZID:America/Los_Angeles
BEGIN:DAYLIGHT
TZOFFSETFROM:-0800
TZOFFSETTO:-0700
TZNAME:PDT
DTSTART:20240310T100000
END:DAYLIGHT
BEGIN:STANDARD
TZOFFSETFROM:-0700
TZOFFSETTO:-0800
TZNAME:PST
DTSTART:20241103T090000
END:STANDARD
END:VTIMEZONE
BEGIN:VEVENT
DTSTART;VALUE=DATE:20241004
DTEND;VALUE=DATE:20241007
DTSTAMP:20260422T204927
CREATED:20240511T200622Z
LAST-MODIFIED:20240523T190140Z
UID:6482-1728000000-1728259199@rockharboronline.com
SUMMARY:Women's Fall Retreat
DESCRIPTION:Register now for our annual Women’s Retreat at Mission Springs \nin the Santa Cruz Mountains!  A great time to get away! Use the QR Code to begin your registration.
URL:https://rockharboronline.com/event/womens-fall-retreat/
LOCATION:Mission Springs\, 1050 Lockhart Gulch Rd\, Scotts Valley\, CA\, 95066\, United States
ATTACH;FMTTYPE=image/jpeg:https://rockharboronline.com/wp-content/uploads/2024/05/2024-Web-Size-for-Promotion.jpg
END:VEVENT
END:VCALENDAR