BEGIN:VCALENDAR
VERSION:2.0
PRODID:-//Rock Harbor Covenant Church - ECPv6.0.13//NONSGML v1.0//EN
CALSCALE:GREGORIAN
METHOD:PUBLISH
X-WR-CALNAME:Rock Harbor Covenant Church
X-ORIGINAL-URL:https://rockharboronline.com
X-WR-CALDESC:Events for Rock Harbor Covenant Church
REFRESH-INTERVAL;VALUE=DURATION:PT1H
X-Robots-Tag:noindex
X-PUBLISHED-TTL:PT1H
BEGIN:VTIMEZONE
TZID:America/Los_Angeles
BEGIN:DAYLIGHT
TZOFFSETFROM:-0800
TZOFFSETTO:-0700
TZNAME:PDT
DTSTART:20240310T100000
END:DAYLIGHT
BEGIN:STANDARD
TZOFFSETFROM:-0700
TZOFFSETTO:-0800
TZNAME:PST
DTSTART:20241103T090000
END:STANDARD
END:VTIMEZONE
BEGIN:VEVENT
DTSTART;VALUE=DATE:20240628
DTEND;VALUE=DATE:20240705
DTSTAMP:20260423T000154
CREATED:20240523T190711Z
LAST-MODIFIED:20240523T190711Z
UID:6492-1719532800-1720137599@rockharboronline.com
SUMMARY:Fireworks Booth
DESCRIPTION:We invite you to visit our FIREWORKS BOOTH on the corner of Park Ave and Sunset Blvd. \nFireworks are available beginning June 28 at 12 noon.  We’ll be open daily!
URL:https://rockharboronline.com/event/fireworks-booth/
LOCATION:2205 Sunset Blvd\, Rocklin\, CA 95765\, 2205 Sunset Blvd\, Rocklin\, 95765\, United States
ATTACH;FMTTYPE=image/jpeg:https://rockharboronline.com/wp-content/uploads/2024/05/24-fireworks-booth-web.jpg
END:VEVENT
END:VCALENDAR