BEGIN:VCALENDAR
VERSION:2.0
PRODID:-//Rock Harbor Covenant Church - ECPv6.0.13//NONSGML v1.0//EN
CALSCALE:GREGORIAN
METHOD:PUBLISH
X-ORIGINAL-URL:https://rockharboronline.com
X-WR-CALDESC:Events for Rock Harbor Covenant Church
REFRESH-INTERVAL;VALUE=DURATION:PT1H
X-Robots-Tag:noindex
X-PUBLISHED-TTL:PT1H
BEGIN:VTIMEZONE
TZID:America/Los_Angeles
BEGIN:DAYLIGHT
TZOFFSETFROM:-0800
TZOFFSETTO:-0700
TZNAME:PDT
DTSTART:20230312T100000
END:DAYLIGHT
BEGIN:STANDARD
TZOFFSETFROM:-0700
TZOFFSETTO:-0800
TZNAME:PST
DTSTART:20231105T090000
END:STANDARD
END:VTIMEZONE
BEGIN:VEVENT
DTSTART;VALUE=DATE:20231224
DTEND;VALUE=DATE:20231225
DTSTAMP:20260423T224613
CREATED:20231110T185801Z
LAST-MODIFIED:20231110T185801Z
UID:6429-1703376000-1703462399@rockharboronline.com
SUMMARY:Christmas Eve Services
DESCRIPTION:Join us for one or both of our Christmas Eve Services \nOur family service will be at 10:00am; Children’s Class for walkers to 2 years old \nThe candlelight service\, at 10:30pm is a beautiful experience\, designed as a quiet time to reflect on the eve of the birth of our Lord and Savior!
URL:https://rockharboronline.com/event/christmas-eve-services/
LOCATION:Gracepoint Church\, 3500 Sunset Blvd\, Rocklin\, CA\, 95677\, United States
ATTACH;FMTTYPE=image/jpeg:https://rockharboronline.com/wp-content/uploads/2023/11/2023-Christmas-Eve-Web.jpg
END:VEVENT
END:VCALENDAR