BEGIN:VCALENDAR
VERSION:2.0
PRODID:-//Rock Harbor Covenant Church - ECPv6.0.13//NONSGML v1.0//EN
CALSCALE:GREGORIAN
METHOD:PUBLISH
X-ORIGINAL-URL:https://rockharboronline.com
X-WR-CALDESC:Events for Rock Harbor Covenant Church
REFRESH-INTERVAL;VALUE=DURATION:PT1H
X-Robots-Tag:noindex
X-PUBLISHED-TTL:PT1H
BEGIN:VTIMEZONE
TZID:America/Los_Angeles
BEGIN:DAYLIGHT
TZOFFSETFROM:-0800
TZOFFSETTO:-0700
TZNAME:PDT
DTSTART:20230312T100000
END:DAYLIGHT
BEGIN:STANDARD
TZOFFSETFROM:-0700
TZOFFSETTO:-0800
TZNAME:PST
DTSTART:20231105T090000
END:STANDARD
END:VTIMEZONE
BEGIN:VEVENT
DTSTART;TZID=America/Los_Angeles:20231105T120000
DTEND;TZID=America/Los_Angeles:20231203T140000
DTSTAMP:20260424T032304
CREATED:20231104T160257Z
LAST-MODIFIED:20231104T160257Z
UID:6393-1699185600-1701612000@rockharboronline.com
SUMMARY:Grief Share - Surviving the Holidays
DESCRIPTION:Please use the QR code to make reservations.  You can contact us at info@rockharboronline.com.
URL:https://rockharboronline.com/event/grief-share-surviving-the-holidays/
LOCATION:Gracepoint Church\, 3500 Sunset Blvd\, Rocklin\, CA\, 95677\, United States
ATTACH;FMTTYPE=image/jpeg:https://rockharboronline.com/wp-content/uploads/2023/11/Grief-Share-web.jpg
END:VEVENT
BEGIN:VEVENT
DTSTART;TZID=America/Los_Angeles:20231119T170000
DTEND;TZID=America/Los_Angeles:20231119T190000
DTSTAMP:20260424T032304
CREATED:20231104T155248Z
LAST-MODIFIED:20231104T155505Z
UID:6390-1700413200-1700420400@rockharboronline.com
SUMMARY:Advent Wreath Creations and Thanksgiving Soup and Salad
DESCRIPTION:Create a new Advent Wreath or refresh one you have at home.  Join us for Soup\, Salad and lots of fun!
URL:https://rockharboronline.com/event/advent-wreath-creations-and-thanksgiving-soup-and-salad/
LOCATION:Gracepoint Church\, 3500 Sunset Blvd\, Rocklin\, CA\, 95677\, United States
ATTACH;FMTTYPE=image/jpeg:https://rockharboronline.com/wp-content/uploads/2023/11/advent-web.jpg
END:VEVENT
END:VCALENDAR