BEGIN:VCALENDAR
VERSION:2.0
PRODID:-//Rock Harbor Covenant Church - ECPv6.0.13//NONSGML v1.0//EN
CALSCALE:GREGORIAN
METHOD:PUBLISH
X-ORIGINAL-URL:https://rockharboronline.com
X-WR-CALDESC:Events for Rock Harbor Covenant Church
REFRESH-INTERVAL;VALUE=DURATION:PT1H
X-Robots-Tag:noindex
X-PUBLISHED-TTL:PT1H
BEGIN:VTIMEZONE
TZID:America/Los_Angeles
BEGIN:DAYLIGHT
TZOFFSETFROM:-0800
TZOFFSETTO:-0700
TZNAME:PDT
DTSTART:20230312T100000
END:DAYLIGHT
BEGIN:STANDARD
TZOFFSETFROM:-0700
TZOFFSETTO:-0800
TZNAME:PST
DTSTART:20231105T090000
END:STANDARD
END:VTIMEZONE
BEGIN:VEVENT
DTSTART;VALUE=DATE:20231013
DTEND;VALUE=DATE:20231015
DTSTAMP:20260424T032249
CREATED:20230811T184809Z
LAST-MODIFIED:20231105T190407Z
UID:6370-1697155200-1697327999@rockharboronline.com
SUMMARY:Marriage Retreat - Everline Resort & Spa
DESCRIPTION:
URL:https://rockharboronline.com/event/marriage-retreat-everline-resort-spa/
CATEGORIES:Men's Ministry,Women's Ministry
ATTACH;FMTTYPE=image/jpeg:https://rockharboronline.com/wp-content/uploads/2023/08/2023-Marriage-Retreat-Slide-e1691779330640.jpg
END:VEVENT
END:VCALENDAR