BEGIN:VCALENDAR
VERSION:2.0
PRODID:-//Rock Harbor Covenant Church - ECPv6.0.13//NONSGML v1.0//EN
CALSCALE:GREGORIAN
METHOD:PUBLISH
X-WR-CALNAME:Rock Harbor Covenant Church
X-ORIGINAL-URL:https://rockharboronline.com
X-WR-CALDESC:Events for Rock Harbor Covenant Church
REFRESH-INTERVAL;VALUE=DURATION:PT1H
X-Robots-Tag:noindex
X-PUBLISHED-TTL:PT1H
BEGIN:VTIMEZONE
TZID:America/Los_Angeles
BEGIN:DAYLIGHT
TZOFFSETFROM:-0800
TZOFFSETTO:-0700
TZNAME:PDT
DTSTART:20230312T100000
END:DAYLIGHT
BEGIN:STANDARD
TZOFFSETFROM:-0700
TZOFFSETTO:-0800
TZNAME:PST
DTSTART:20231105T090000
END:STANDARD
END:VTIMEZONE
BEGIN:VEVENT
DTSTART;TZID=America/Los_Angeles:20230825T110000
DTEND;TZID=America/Los_Angeles:20230825T150000
DTSTAMP:20260424T113859
CREATED:20230811T183800Z
LAST-MODIFIED:20230811T183800Z
UID:6367-1692961200-1692975600@rockharboronline.com
SUMMARY:Men's 2-Man Scramble - August 25
DESCRIPTION:
URL:https://rockharboronline.com/event/mens-2-man-scramble-august-25/
ATTACH;FMTTYPE=image/jpeg:https://rockharboronline.com/wp-content/uploads/2023/08/Screen-Shot-2023-08-11-at-11.27.29-AM-e1691778943227.jpg
END:VEVENT
END:VCALENDAR